BEGIN:VCALENDAR
VERSION:2.0
PRODID:-//Kermisbedrijf Blokker - ECPv4.5.7//NONSGML v1.0//EN
CALSCALE:GREGORIAN
METHOD:PUBLISH
X-WR-CALNAME:Kermisbedrijf Blokker
X-ORIGINAL-URL:http://kermisbedrijfblokker.nl
X-WR-CALDESC:Events for Kermisbedrijf Blokker
BEGIN:VEVENT
DTSTART;TZID=Europe/Amsterdam:20180719T140000
DTEND;TZID=Europe/Amsterdam:20180724T230000
DTSTAMP:20260422T173844
CREATED:20180404T144806Z
LAST-MODIFIED:20180404T144806Z
UID:299-1532008800-1532473200@kermisbedrijfblokker.nl
SUMMARY:Petten
DESCRIPTION:
URL:http://kermisbedrijfblokker.nl/evenement/petten/
LOCATION:Petten
END:VEVENT
END:VCALENDAR