BEGIN:VCALENDAR
VERSION:2.0
PRODID:-//Kermisbedrijf Blokker - ECPv4.5.7//NONSGML v1.0//EN
CALSCALE:GREGORIAN
METHOD:PUBLISH
X-WR-CALNAME:Kermisbedrijf Blokker
X-ORIGINAL-URL:http://kermisbedrijfblokker.nl
X-WR-CALDESC:Events for Kermisbedrijf Blokker
BEGIN:VEVENT
DTSTART;TZID=Europe/Amsterdam:20180711T140000
DTEND;TZID=Europe/Amsterdam:20180718T000000
DTSTAMP:20260422T174815
CREATED:20180404T144307Z
LAST-MODIFIED:20180404T144307Z
UID:293-1531317600-1531872000@kermisbedrijfblokker.nl
SUMMARY:Egmond aan zee
DESCRIPTION:
URL:http://kermisbedrijfblokker.nl/evenement/egmond-aan-zee/
LOCATION:Egmond aan zee
END:VEVENT
END:VCALENDAR