BEGIN:VCALENDAR
VERSION:2.0
PRODID:-//Kermisbedrijf Blokker - ECPv4.5.7//NONSGML v1.0//EN
CALSCALE:GREGORIAN
METHOD:PUBLISH
X-WR-CALNAME:Kermisbedrijf Blokker
X-ORIGINAL-URL:http://kermisbedrijfblokker.nl
X-WR-CALDESC:Events for Kermisbedrijf Blokker
BEGIN:VEVENT
DTSTART;TZID=Europe/Amsterdam:20180628T140000
DTEND;TZID=Europe/Amsterdam:20180701T000000
DTSTAMP:20260422T173552
CREATED:20180404T143507Z
LAST-MODIFIED:20180404T143507Z
UID:281-1530194400-1530403200@kermisbedrijfblokker.nl
SUMMARY:Heiloo
DESCRIPTION:
URL:http://kermisbedrijfblokker.nl/evenement/heiloo/
LOCATION:Heiloo
END:VEVENT
END:VCALENDAR