BEGIN:VCALENDAR
VERSION:2.0
PRODID:-//Kermisbedrijf Blokker - ECPv4.5.7//NONSGML v1.0//EN
CALSCALE:GREGORIAN
METHOD:PUBLISH
X-WR-CALNAME:Kermisbedrijf Blokker
X-ORIGINAL-URL:http://kermisbedrijfblokker.nl
X-WR-CALDESC:Events for Kermisbedrijf Blokker
BEGIN:VEVENT
DTSTART;TZID=Europe/Amsterdam:20180509T140000
DTEND;TZID=Europe/Amsterdam:20180513T230000
DTSTAMP:20260422T203550
CREATED:20180404T134335Z
LAST-MODIFIED:20180404T134335Z
UID:255-1525874400-1526252400@kermisbedrijfblokker.nl
SUMMARY:Hippolytushoef
DESCRIPTION:
URL:http://kermisbedrijfblokker.nl/evenement/hippolytushoef/
END:VEVENT
BEGIN:VEVENT
DTSTART;TZID=Europe/Amsterdam:20180510T140000
DTEND;TZID=Europe/Amsterdam:20180513T233000
DTSTAMP:20260422T203550
CREATED:20180404T134502Z
LAST-MODIFIED:20180404T134502Z
UID:257-1525960800-1526254200@kermisbedrijfblokker.nl
SUMMARY:Wognum
DESCRIPTION:
URL:http://kermisbedrijfblokker.nl/evenement/wognum/
LOCATION:Wognum
END:VEVENT
BEGIN:VEVENT
DTSTART;TZID=Europe/Amsterdam:20180511T140000
DTEND;TZID=Europe/Amsterdam:20180513T000000
DTSTAMP:20260422T203550
CREATED:20180404T134628Z
LAST-MODIFIED:20180404T134628Z
UID:260-1526047200-1526169600@kermisbedrijfblokker.nl
SUMMARY:Middelie
DESCRIPTION:
URL:http://kermisbedrijfblokker.nl/evenement/middelie/
END:VEVENT
END:VCALENDAR