BEGIN:VCALENDAR
VERSION:2.0
PRODID:-//Kermisbedrijf Blokker - ECPv4.5.7//NONSGML v1.0//EN
CALSCALE:GREGORIAN
METHOD:PUBLISH
X-WR-CALNAME:Kermisbedrijf Blokker
X-ORIGINAL-URL:http://kermisbedrijfblokker.nl
X-WR-CALDESC:Events for Kermisbedrijf Blokker
BEGIN:VEVENT
DTSTART;TZID=Europe/Amsterdam:20180331T143000
DTEND;TZID=Europe/Amsterdam:20180403T000000
DTSTAMP:20260422T215526
CREATED:20180404T132610Z
LAST-MODIFIED:20180404T132610Z
UID:243-1522506600-1522713600@kermisbedrijfblokker.nl
SUMMARY:bovenkarspel
DESCRIPTION:
URL:http://kermisbedrijfblokker.nl/evenement/bovenkarspel/
LOCATION:bovenkarspel
END:VEVENT
END:VCALENDAR