BEGIN:VCALENDAR
VERSION:2.0
PRODID:-//Kermisbedrijf Blokker - ECPv4.5.7//NONSGML v1.0//EN
CALSCALE:GREGORIAN
METHOD:PUBLISH
X-WR-CALNAME:Kermisbedrijf Blokker
X-ORIGINAL-URL:http://kermisbedrijfblokker.nl
X-WR-CALDESC:Events for Kermisbedrijf Blokker
BEGIN:VEVENT
DTSTART;TZID=Europe/Amsterdam:20180510T140000
DTEND;TZID=Europe/Amsterdam:20180513T233000
DTSTAMP:20260422T203349
CREATED:20180404T134502Z
LAST-MODIFIED:20180404T134502Z
UID:257-1525960800-1526254200@kermisbedrijfblokker.nl
SUMMARY:Wognum
DESCRIPTION:
URL:http://kermisbedrijfblokker.nl/evenement/wognum/
LOCATION:Wognum
END:VEVENT
END:VCALENDAR