BEGIN:VCALENDAR
VERSION:2.0
PRODID:-//Kermisbedrijf Blokker - ECPv4.5.7//NONSGML v1.0//EN
CALSCALE:GREGORIAN
METHOD:PUBLISH
X-WR-CALNAME:Kermisbedrijf Blokker
X-ORIGINAL-URL:http://kermisbedrijfblokker.nl
X-WR-CALDESC:Events for Kermisbedrijf Blokker
BEGIN:VEVENT
DTSTART;TZID=Europe/Amsterdam:20180707T140000
DTEND;TZID=Europe/Amsterdam:20180710T000000
DTSTAMP:20260422T173639
CREATED:20180404T144132Z
LAST-MODIFIED:20180404T144132Z
UID:290-1530972000-1531180800@kermisbedrijfblokker.nl
SUMMARY:Schermerhorn
DESCRIPTION:
URL:http://kermisbedrijfblokker.nl/evenement/schermerhorn/
LOCATION:Schermerhorn
END:VEVENT
END:VCALENDAR