BEGIN:VCALENDAR
VERSION:2.0
PRODID:-//Kermisbedrijf Blokker - ECPv4.5.7//NONSGML v1.0//EN
CALSCALE:GREGORIAN
METHOD:PUBLISH
X-WR-CALNAME:Kermisbedrijf Blokker
X-ORIGINAL-URL:http://kermisbedrijfblokker.nl
X-WR-CALDESC:Events for Kermisbedrijf Blokker
BEGIN:VEVENT
DTSTART;TZID=Europe/Amsterdam:20180526T140000
DTEND;TZID=Europe/Amsterdam:20180529T000000
DTSTAMP:20260422T190641
CREATED:20180404T142831Z
LAST-MODIFIED:20180404T142831Z
UID:269-1527343200-1527552000@kermisbedrijfblokker.nl
SUMMARY:Opmeer
DESCRIPTION:
URL:http://kermisbedrijfblokker.nl/evenement/opmeer/
LOCATION:Opmeer
END:VEVENT
END:VCALENDAR