BEGIN:VCALENDAR
VERSION:2.0
PRODID:-//Kermisbedrijf Blokker - ECPv4.5.7//NONSGML v1.0//EN
CALSCALE:GREGORIAN
METHOD:PUBLISH
X-WR-CALNAME:Kermisbedrijf Blokker
X-ORIGINAL-URL:http://kermisbedrijfblokker.nl
X-WR-CALDESC:Events for Kermisbedrijf Blokker
BEGIN:VEVENT
DTSTART;TZID=Europe/Amsterdam:20180519T140000
DTEND;TZID=Europe/Amsterdam:20180521T000000
DTSTAMP:20260422T203652
CREATED:20180404T142218Z
LAST-MODIFIED:20180404T142218Z
UID:263-1526738400-1526860800@kermisbedrijfblokker.nl
SUMMARY:Nieuwe niedorp
DESCRIPTION:
URL:http://kermisbedrijfblokker.nl/evenement/nieuwe-niedorp/
LOCATION:Nieuwe niedorp
END:VEVENT
END:VCALENDAR