BEGIN:VCALENDAR
VERSION:2.0
PRODID:-//Kermisbedrijf Blokker - ECPv4.5.7//NONSGML v1.0//EN
CALSCALE:GREGORIAN
METHOD:PUBLISH
X-WR-CALNAME:Kermisbedrijf Blokker
X-ORIGINAL-URL:http://kermisbedrijfblokker.nl
X-WR-CALDESC:Events for Kermisbedrijf Blokker
BEGIN:VEVENT
DTSTART;TZID=Europe/Amsterdam:20180630T140000
DTEND;TZID=Europe/Amsterdam:20180701T010000
DTSTAMP:20260422T173429
CREATED:20180404T143807Z
LAST-MODIFIED:20180404T143807Z
UID:284-1530367200-1530406800@kermisbedrijfblokker.nl
SUMMARY:Moerbeek
DESCRIPTION:
URL:http://kermisbedrijfblokker.nl/evenement/moerbeek/
END:VEVENT
END:VCALENDAR